BEGIN:VCALENDAR
VERSION:2.0
PRODID:-//Chi Heng Foundation Canada - ECPv5.2.0//NONSGML v1.0//EN
CALSCALE:GREGORIAN
METHOD:PUBLISH
X-WR-CALNAME:Chi Heng Foundation Canada
X-ORIGINAL-URL:https://www.chihengcanada.org
X-WR-CALDESC:Events for Chi Heng Foundation Canada
BEGIN:VTIMEZONE
TZID:UTC
BEGIN:STANDARD
TZOFFSETFROM:+0000
TZOFFSETTO:+0000
TZNAME:UTC
DTSTART:20160101T000000
END:STANDARD
END:VTIMEZONE
BEGIN:VEVENT
DTSTART;VALUE=DATE:20160330
DTEND;VALUE=DATE:20160331
DTSTAMP:20260423T095111
CREATED:20200327T160117Z
LAST-MODIFIED:20200331T072645Z
UID:1978-1459296000-1459382399@www.chihengcanada.org
SUMMARY:智慧善行素宴 2016
DESCRIPTION:智慧善行素宴 2016
URL:https://www.chihengcanada.org/event/%e6%99%ba%e6%85%a7%e5%96%84%e8%a1%8c%e7%b4%a0%e5%ae%b4-2016/
LOCATION:BC
ATTACH;FMTTYPE=image/jpeg:https://www.chihengcanada.org/wp-content/uploads/2020/03/20160330_large.jpg
END:VEVENT
END:VCALENDAR