BEGIN:VCALENDAR
VERSION:2.0
PRODID:-//Chi Heng Foundation Canada - ECPv5.2.0//NONSGML v1.0//EN
CALSCALE:GREGORIAN
METHOD:PUBLISH
X-WR-CALNAME:Chi Heng Foundation Canada
X-ORIGINAL-URL:https://www.chihengcanada.org
X-WR-CALDESC:Events for Chi Heng Foundation Canada
BEGIN:VTIMEZONE
TZID:UTC
BEGIN:STANDARD
TZOFFSETFROM:+0000
TZOFFSETTO:+0000
TZNAME:UTC
DTSTART:20180101T000000
END:STANDARD
END:VTIMEZONE
BEGIN:VEVENT
DTSTART;VALUE=DATE:20180712
DTEND;VALUE=DATE:20180713
DTSTAMP:20260423T194037
CREATED:20200331T124803Z
LAST-MODIFIED:20200331T124803Z
UID:2190-1531353600-1531439999@www.chihengcanada.org
SUMMARY:有父母愛的孩子真幸福 電台電話籌款 2018
DESCRIPTION:  \n \n有父母愛的孩子真幸福 電台電話籌款 12/7/2018 \nThank you for your support to Chi Heng Foundation Canada. Since 2002\, Chi Heng has been constantly providing support and assistance to AIDS orphans in mainland China\, allowing them to receive education continuously. To date\, Chi Heng has proudly assisted over 10\,000 AIDS impacted children. In addition to providing them with funding for primary\, secondary and university education\, Chi Heng has also provided other related services such as counselling\, vocational placement and community based care. In order to continue all these meaningful and important works\, Chi Heng Foundation Canada need your support.
URL:https://www.chihengcanada.org/event/%e6%9c%89%e7%88%b6%e6%af%8d%e6%84%9b%e7%9a%84%e5%ad%a9%e5%ad%90%e7%9c%9f%e5%b9%b8%e7%a6%8f-%e9%9b%bb%e5%8f%b0%e9%9b%bb%e8%a9%b1%e7%b1%8c%e6%ac%be-2018/
LOCATION:Toronto
ATTACH;FMTTYPE=image/jpeg:https://www.chihengcanada.org/wp-content/uploads/2020/02/chiheng20180712.jpg
END:VEVENT
END:VCALENDAR