BEGIN:VCALENDAR
VERSION:2.0
PRODID:-//Chi Heng Foundation Canada - ECPv5.2.0//NONSGML v1.0//EN
CALSCALE:GREGORIAN
METHOD:PUBLISH
X-WR-CALNAME:Chi Heng Foundation Canada
X-ORIGINAL-URL:https://www.chihengcanada.org
X-WR-CALDESC:Events for Chi Heng Foundation Canada
BEGIN:VTIMEZONE
TZID:America/Halifax
BEGIN:DAYLIGHT
TZOFFSETFROM:-0400
TZOFFSETTO:-0300
TZNAME:ADT
DTSTART:20220313T060000
END:DAYLIGHT
BEGIN:STANDARD
TZOFFSETFROM:-0300
TZOFFSETTO:-0400
TZNAME:AST
DTSTART:20221106T050000
END:STANDARD
END:VTIMEZONE
BEGIN:VEVENT
DTSTART;TZID=America/Halifax:20221002T140000
DTEND;TZID=America/Halifax:20221002T153000
DTSTAMP:20260421T101007
CREATED:20220915T064953Z
LAST-MODIFIED:20220917T154936Z
UID:4178-1664719200-1664724600@www.chihengcanada.org
SUMMARY:Zumba For A Good Cause
DESCRIPTION:Zumba For A Good Cause \nDate: 2nd October 2022 (Sunday)\nTime: 2:00 – 3:30 pm (EDT)\nVenue: Parking lot of All Saints’ Chinese Anglican Church\nAddress: 1100 Denison Street\, Markham ON L3R 0Z4\nCost To Join As Donation:  $20 or Sponsorship \nLink for Donation:  https://www.chihengcanada.org/donation/donateForm.php \nLink for Sponsorship: https://www.gofundme.com/f/chfc-dance-group?utm_medium=email&utm_source=product&utm_campaign=p_email%2B4940-npo-welcome-wp-v5 \nZumba is an aerobic fitness dance exercise performed under the strong beat of Latin music. A sport mixed between fitness and dance.\nZumba is a way to effectively burn calories and strengthen the heart in a happy atmosphere.\nIt is exercising muscles of the whole body\, releasing endorphins for decompression. Participants do not need to have dance foundation\, they just follow the instructor and the beat of the music. There are no restrictions and no right or wrong actions\, the purpose of Zumba is to remind everyone of the importance of health and exercise. \nThank you for your support to Chi Heng Foundation Canada. Since 1998\, Chi Heng has been constantly providing support and assistance to AIDS orphans in mainland China\, allowing them to receive education continuously. To date\, Chi Heng has proudly assisted over 32\,000 AIDS impacted children. In addition to providing them with funding for primary\, secondary and university education\, Chi Heng has also provided other related services such as counselling\, vocational placement and community based care. In order to continue all these meaningful and important works\, Chi Heng Foundation Canada need your support. \n 
URL:https://www.chihengcanada.org/event/zumba-dancing/
LOCATION:All Saints’ Chinese Anglican Church\, 1100 Denison Street\, Markham\, ON\, L3R 0Z4
ATTACH;FMTTYPE=image/jpeg:https://www.chihengcanada.org/wp-content/uploads/2022/09/Tornoto-Zumba-Poster-2022-Rev2s.jpg
ORGANIZER;CN="Chi%20Heng%20Foundation%20Canada":MAILTO:info@chihengcanada.org
END:VEVENT
END:VCALENDAR